BEGIN:VCALENDAR
VERSION:2.0
PRODID:-//Skunked - ECPv6.15.20//NONSGML v1.0//EN
CALSCALE:GREGORIAN
METHOD:PUBLISH
X-ORIGINAL-URL:https://skunkedmj.com
X-WR-CALDESC:Events for Skunked
REFRESH-INTERVAL;VALUE=DURATION:PT1H
X-Robots-Tag:noindex
X-PUBLISHED-TTL:PT1H
BEGIN:VTIMEZONE
TZID:America/Denver
BEGIN:DAYLIGHT
TZOFFSETFROM:-0700
TZOFFSETTO:-0600
TZNAME:MDT
DTSTART:20240310T090000
END:DAYLIGHT
BEGIN:STANDARD
TZOFFSETFROM:-0600
TZOFFSETTO:-0700
TZNAME:MST
DTSTART:20241103T080000
END:STANDARD
BEGIN:DAYLIGHT
TZOFFSETFROM:-0700
TZOFFSETTO:-0600
TZNAME:MDT
DTSTART:20250309T090000
END:DAYLIGHT
BEGIN:STANDARD
TZOFFSETFROM:-0600
TZOFFSETTO:-0700
TZNAME:MST
DTSTART:20251102T080000
END:STANDARD
BEGIN:DAYLIGHT
TZOFFSETFROM:-0700
TZOFFSETTO:-0600
TZNAME:MDT
DTSTART:20260308T090000
END:DAYLIGHT
BEGIN:STANDARD
TZOFFSETFROM:-0600
TZOFFSETTO:-0700
TZNAME:MST
DTSTART:20261101T080000
END:STANDARD
END:VTIMEZONE
BEGIN:VEVENT
DTSTART;TZID=America/Denver:20250619T080000
DTEND;TZID=America/Denver:20250622T233000
DTSTAMP:20260425T165851
CREATED:20250616T153854Z
LAST-MODIFIED:20250616T153913Z
UID:47184-1750320000-1750635000@skunkedmj.com
SUMMARY:✊🏽🖤Juneteenth✊🏽🖤
DESCRIPTION:✊🏽🖤Juneteenth✊🏽🖤 \nCome Celebrate with your favorite dispo!! \n\nBOGO 15% off drinks.\n2 for $96 Dro Pre-packs\n5 Joints for $25
URL:https://skunkedmj.com/event/%e2%9c%8a%f0%9f%8f%bd%f0%9f%96%a4juneteenth%e2%9c%8a%f0%9f%8f%bd%f0%9f%96%a4/
LOCATION:Skunked\, 2683 E 120th Ave Unit B-1\, Thornton\, CO\, 80233\, United States
END:VEVENT
END:VCALENDAR