BEGIN:VCALENDAR
VERSION:2.0
PRODID:-//Skunked - ECPv6.15.17.1//NONSGML v1.0//EN
CALSCALE:GREGORIAN
METHOD:PUBLISH
X-ORIGINAL-URL:https://skunkedmj.com
X-WR-CALDESC:Events for Skunked
REFRESH-INTERVAL;VALUE=DURATION:PT1H
X-Robots-Tag:noindex
X-PUBLISHED-TTL:PT1H
BEGIN:VTIMEZONE
TZID:America/Denver
BEGIN:DAYLIGHT
TZOFFSETFROM:-0700
TZOFFSETTO:-0600
TZNAME:MDT
DTSTART:20240310T090000
END:DAYLIGHT
BEGIN:STANDARD
TZOFFSETFROM:-0600
TZOFFSETTO:-0700
TZNAME:MST
DTSTART:20241103T080000
END:STANDARD
BEGIN:DAYLIGHT
TZOFFSETFROM:-0700
TZOFFSETTO:-0600
TZNAME:MDT
DTSTART:20250309T090000
END:DAYLIGHT
BEGIN:STANDARD
TZOFFSETFROM:-0600
TZOFFSETTO:-0700
TZNAME:MST
DTSTART:20251102T080000
END:STANDARD
BEGIN:DAYLIGHT
TZOFFSETFROM:-0700
TZOFFSETTO:-0600
TZNAME:MDT
DTSTART:20260308T090000
END:DAYLIGHT
BEGIN:STANDARD
TZOFFSETFROM:-0600
TZOFFSETTO:-0700
TZNAME:MST
DTSTART:20261101T080000
END:STANDARD
END:VTIMEZONE
BEGIN:VEVENT
DTSTART;TZID=America/Denver:20250815T080000
DTEND;TZID=America/Denver:20250815T233000
DTSTAMP:20260419T234021
CREATED:20250815T135956Z
LAST-MODIFIED:20250814T142231Z
UID:48536-1755244800-1755300600@skunkedmj.com
SUMMARY:⛰️ 14er Friday – Your New Favorite Elevation ⛰️
DESCRIPTION:⛰️ 14er Friday – Your New Favorite Elevation ⛰️ \nEvery Friday\, we’re taking your stash to new heights with 14er Friday at Skunked! This is the perfect time to load up on your favorite products and kick off the weekend right. \n🔥 The Friday Lineup: \n\n\n20% OFF Concentrates – Dabs that hit like the peak sunrise. \n\n\n20% OFF Carts & Disposables – Smooth pulls\, perfect for any adventure. \n\n\n20% OFF Pre-Packaged Eighths – Fresh\, potent\, and ready to roll. \n\n\nWhether you’re prepping for a weekend hike\, a couch climb\, or just cruising through your Friday night plans\, 14er Friday has the gear you need to reach the summit. \n📅 When: Every Friday📍 Where: Skunked Dispensary \nNo ropes\, no gear—just you\, the vibes\, and a backpack full of savings. Make every Friday feel like a victory lap at the top. 🌿✨
URL:https://skunkedmj.com/event/%e2%9b%b0%ef%b8%8f-14er-friday-your-new-favorite-elevation-%e2%9b%b0%ef%b8%8f/
LOCATION:Skunked\, 2683 E 120th Ave Unit B-1\, Thornton\, CO\, 80233\, United States
ATTACH;FMTTYPE=image/png:https://skunkedmj.com/wp-content/uploads/2025/08/2025-App-Dutchie-27.png
END:VEVENT
END:VCALENDAR