BEGIN:VCALENDAR
VERSION:2.0
PRODID:-//Skunked - ECPv6.15.20//NONSGML v1.0//EN
CALSCALE:GREGORIAN
METHOD:PUBLISH
X-ORIGINAL-URL:https://skunkedmj.com
X-WR-CALDESC:Events for Skunked
REFRESH-INTERVAL;VALUE=DURATION:PT1H
X-Robots-Tag:noindex
X-PUBLISHED-TTL:PT1H
BEGIN:VTIMEZONE
TZID:America/Denver
BEGIN:DAYLIGHT
TZOFFSETFROM:-0700
TZOFFSETTO:-0600
TZNAME:MDT
DTSTART:20250309T090000
END:DAYLIGHT
BEGIN:STANDARD
TZOFFSETFROM:-0600
TZOFFSETTO:-0700
TZNAME:MST
DTSTART:20251102T080000
END:STANDARD
BEGIN:DAYLIGHT
TZOFFSETFROM:-0700
TZOFFSETTO:-0600
TZNAME:MDT
DTSTART:20260308T090000
END:DAYLIGHT
BEGIN:STANDARD
TZOFFSETFROM:-0600
TZOFFSETTO:-0700
TZNAME:MST
DTSTART:20261101T080000
END:STANDARD
BEGIN:DAYLIGHT
TZOFFSETFROM:-0700
TZOFFSETTO:-0600
TZNAME:MDT
DTSTART:20270314T090000
END:DAYLIGHT
BEGIN:STANDARD
TZOFFSETFROM:-0600
TZOFFSETTO:-0700
TZNAME:MST
DTSTART:20271107T080000
END:STANDARD
END:VTIMEZONE
BEGIN:VEVENT
DTSTART;VALUE=DATE:20260424
DTEND;VALUE=DATE:20260427
DTSTAMP:20260425T213236
CREATED:20260424T174826Z
LAST-MODIFIED:20260424T174826Z
UID:60684-1776988800-1777247999@skunkedmj.com
SUMMARY:🌿✨ 4/20 Afterglow Specials at Skunked🔥💨
DESCRIPTION:🌿✨ 4/20 Afterglow Specials at Skunked🔥💨\nThe celebration doesn’t stop on 4/20—keep the good vibes rolling with our 4/20 Afterglow Specials at Skunked! For a limited time\, we’re bringing you post-4/20 deals designed to help you restock and stay lifted.\n🌿 25% OFF Top & Premium Shelf BudStock up on high-quality flower at a major discount and keep your stash elevated.\n💨 10 Joints for $45Perfect for sharing or staying stocked—more smoke\, more savings.\nWhether you went all out on 4/20 or you’re just getting started\, this is your chance to grab great deals without the rush.\n📍 Visit Skunked Dispensary\, proudly serving:Thornton\, Westminster\, Northglenn\, Federal Heights\, Broomfield\, and surrounding areas.\n🔥 Come through\, reload your stash\, and keep the 4/20 energy alive!
URL:https://skunkedmj.com/event/%f0%9f%8c%bf%e2%9c%a8-4-20-afterglow-specials-at-skunked%f0%9f%94%a5%f0%9f%92%a8/
LOCATION:Skunked\, 2683 E 120th Ave Unit B-1\, Thornton\, CO\, 80233\, United States
ATTACH;FMTTYPE=image/png:https://skunkedmj.com/wp-content/uploads/2026/04/Apr-2026-App-Dutchie-26.png
END:VEVENT
BEGIN:VEVENT
DTSTART;VALUE=DATE:20260425
DTEND;VALUE=DATE:20260426
DTSTAMP:20260425T213236
CREATED:20260421T202527Z
LAST-MODIFIED:20260421T202642Z
UID:60578-1777075200-1777161599@skunkedmj.com
SUMMARY:🔥 Leiffa Rosin Pop-Up at Skunked — 25% Off All Leiffa Products! 🔥
DESCRIPTION:🔥 Leiffa Rosin Pop-Up at Skunked — 25% Off All Leiffa Products! 🔥 \nGet ready\, concentrate lovers! Join us at Skunked in Thornton\, CO for a special Leiffa Brands Pop-Up on Saturday\, April 25 from 11AM–2PM. If you’ve been curious about premium solventless concentrates or you’re already a rosin enthusiast\, this is an event you won’t want to miss. 🎉 \nLeiffa Brands is known throughout Colorado for producing top-tier solventless rosin products crafted with care and precision. Their process focuses on quality inputs and careful extraction methods to deliver clean\, flavorful\, and potent concentrates without the use of solvents. During this pop-up event\, you’ll have the opportunity to meet a Leiffa brand representative\, learn more about their process\, and get personalized recommendations based on your preferences. 💬🔥 \nEven better? We’ll be running 25% OFF ALL LEIFFA PRODUCTS all day long. That means you can stock up on some of the most sought-after rosin products in the state at a serious discount. Our shelves will be stocked with Leiffa favorites including: \n✨ Cold Cure Live Rosin – creamy\, terpene-rich concentrates with incredible flavor✨ Fresh Press Live Rosin – bright\, vibrant rosin straight off the press✨ .5g Rosin All-in-One Vapes – convenient solventless vaping with full terpene expression✨ Rosin Infused Pre-Rolls – flower enhanced with rosin for a powerful\, flavorful smoke \nThe Leiffa rep will also be hanging out during the event to answer questions\, talk terpenes\, and give out brand swag like stickers and other goodies while supplies last. 🎁 \nWhether you’re a longtime fan of solventless concentrates or just looking to learn more about the difference between live rosin\, fresh press\, and cold cure\, this pop-up is a great chance to dive deeper into the world of premium cannabis extracts. \nSkunked is conveniently located in Thornton\, Colorado\, making us an easy stop for cannabis shoppers from Northglenn\, Westminster\, Federal Heights\, Broomfield\, and the greater Denver area. Swing by after work\, meet the Leiffa team\, grab some swag\, and take advantage of 25% off some of the best rosin products Colorado has to offer. \n📍 Where: Skunked – Thornton\, CO📅 When: April 25 | 11AM–2PM💸 Deal: 25% Off All Leiffa Products \nBring your friends\, bring your questions\, and come discover why Leiffa is one of Colorado’s most respected solventless brands. See you there! 🌿💨 \nCheck Out Their Instagram! 🔥 \n 
URL:https://skunkedmj.com/event/%f0%9f%94%a5-leiffa-rosin-pop-up-at-skunked-25-off-all-leiffa-products-%f0%9f%94%a5-4/
LOCATION:Skunked\, 2683 E 120th Ave Unit B-1\, Thornton\, CO\, 80233\, United States
ATTACH;FMTTYPE=image/png:https://skunkedmj.com/wp-content/uploads/2026/04/Apr-2026-App-Dutchie-10-1.png
END:VEVENT
END:VCALENDAR